BEGIN:VCALENDAR
VERSION:2.0
PRODID:-//Story Of America - ECPv5.15.0.1//NONSGML v1.0//EN
CALSCALE:GREGORIAN
METHOD:PUBLISH
X-WR-CALNAME:Story Of America
X-ORIGINAL-URL:https://storyofamericafilm.com
X-WR-CALDESC:Events for Story Of America
BEGIN:VTIMEZONE
TZID:UTC
BEGIN:STANDARD
TZOFFSETFROM:+0000
TZOFFSETTO:+0000
TZNAME:UTC
DTSTART:20180101T000000
END:STANDARD
END:VTIMEZONE
BEGIN:VEVENT
DTSTART;VALUE=DATE:20180118
DTEND;VALUE=DATE:20180129
DTSTAMP:20260424T185424
CREATED:20180117T211432Z
LAST-MODIFIED:20180117T211432Z
UID:1634-1516233600-1517183999@storyofamericafilm.com
SUMMARY:Story of America Screening @ Sundance 2018
DESCRIPTION:Sundance Institute showcases bold\, independent storytelling at the 2018 Sundance Film Festival\, and we will be screening Story of America there!  The Festival will be held in Park City\, Salt Lake City and at Sundance Mountain Resort\, Utah\, from January 18–28. \n\n\nPlease support Story of America with a tax deductible donation. 
URL:https://storyofamericafilm.com/event/story-of-america-screening-sundance-2018/
LOCATION:Park City\, Utah\, Park City\, UT
ATTACH;FMTTYPE=image/jpeg:https://storyofamericafilm.com/wp-content/uploads/2018/01/sundance.jpg
END:VEVENT
END:VCALENDAR